BEGIN:VCALENDAR
VERSION:2.0
PRODID:-//La Artigua - ECPv6.3.5//NONSGML v1.0//EN
CALSCALE:GREGORIAN
METHOD:PUBLISH
X-WR-CALNAME:La Artigua
X-ORIGINAL-URL:https://laartigua.es
X-WR-CALDESC:Eventos para La Artigua
REFRESH-INTERVAL;VALUE=DURATION:PT1H
X-Robots-Tag:noindex
X-PUBLISHED-TTL:PT1H
BEGIN:VTIMEZONE
TZID:Europe/Madrid
BEGIN:DAYLIGHT
TZOFFSETFROM:+0100
TZOFFSETTO:+0200
TZNAME:CEST
DTSTART:20240331T010000
END:DAYLIGHT
BEGIN:STANDARD
TZOFFSETFROM:+0200
TZOFFSETTO:+0100
TZNAME:CET
DTSTART:20241027T010000
END:STANDARD
END:VTIMEZONE
BEGIN:VEVENT
DTSTART;TZID=Europe/Madrid:20240627T090000
DTEND;TZID=Europe/Madrid:20240712T140000
DTSTAMP:20260423T195135
CREATED:20240407T153439Z
LAST-MODIFIED:20240407T153439Z
UID:7768-1719478800-1720792800@laartigua.es
SUMMARY:Talleres de verano para peques 2024
DESCRIPTION:Ofrecemos planes artísticos para peques de 6 a 12 años. \nCada día será una propuesta artística diferente con materiales diversos para que puedan explorar distintas facetas artísticas. Madera\, lana\, cartón y por supuesto mucha pintura\, nos acompañarán este verano. \nEste año los talleres serán los jueves y viernes del 27 de junio al 12 de julio (3 semanas) en horario de 9 a 14h. \nTodos los materiales están incluidos en el precio y lo único que tienen que aportar los alumnos son sus ganas y ropa para mancharse. \nEste es el programa que vamos a seguir\, aunque puede sufrir modificaciones. \n  \nPRIMERA SEMANA \nJueves 27 de Junio: Taller de construcción con piezas sueltas. Tendremos distintos materiales para trabajar el volumen y el espacio vacío como elementos expresivos\, para poder crear esculturas y artilugios según nuestros intereses. Madera\, cartón y color serán los soportes de nuestras ideas. \nViernes 28 de Junio: Monotipos y marmoleados. Trabajaremos distintas maneras de crear huellas en diferentes soportes. Aprenderemos el comportamiento plástico de un montón de materiales y sus particularidades de color y textura. Nos iremos a casa con un montón de recursos expresivos y todas las obras que alcancen a estampar. \n  \nSEGUNDA SEMANA \nJueves 4 de Julio: Escultura en blanco. El blanco como hilo conductor de un taller de construcción volumétrica.  Fabricaremos diferentes masas con las que dar rienda suelta a nuestra a nuestro escultor interior. \nViernes 5 de Julio: Pintura abstracta. En este taller jugaremos con el color y la plasticidad de la pintura para dar forma a composiciones azarosas. Nos mancharemos mucho. \n  \nTERCERA SEMANA \nJueves 11 de Julio: Juguetes artesanales. En este taller construiremos nuestros propios juguetes con materiales reciclados y luego jugaremos con ellos. ¿Para qué comprar si podemos crear? \nViernes 12 de Julio: Autorretrato. Trabajaremos sobre nuestra propia imagen para crear retratos de muchas maneras diferentes. Nos servirá de pretexto para aprender a dibujar rostros y sus caricaturas. \nPrecio por 1 día: 40€ \nPrecio por 2 días: 75€ \nprecio por 3 días: 105€ \nPrecio por 4 días: 130€ \nPrecio por 5 días: 150€ \nPrecio por 6 días: 165€ \n  \nPara info y reservas escribir a laartigua@gmail.com \nEs imprescindible la preinscripción abonando con antelación el 50% del precio del taller. \nSerá necesario un mínimo de 5 alumnos para que se lleve a cabo el taller. En caso de que no se llegue a ese número de alumnos o que el taller tuviera que cancelarse por parte de La Artigua\, se le devolverá el importe íntegro.  \nEn caso de que sea el alumno quien  no asista al taller\, se le devolverá el 50% del importe sólo en el caso de que la cancelación sea con un mínimo de 5 días de antelación.
URL:https://laartigua.es/event/talleres-de-verano-para-peques-2024/
LOCATION:La Artigua\, C/Hierbabuena 12\, Madrid\, 28039\, España
CATEGORIES:arte infantil,campamento urbano,evento,formación,talleres de verano
ATTACH;FMTTYPE=image/jpeg:https://laartigua.es/wp-content/uploads/2021/08/Verano.jpg
END:VEVENT
END:VCALENDAR