BEGIN:VCALENDAR
VERSION:2.0
PRODID:-//La Artigua - ECPv6.3.5//NONSGML v1.0//EN
CALSCALE:GREGORIAN
METHOD:PUBLISH
X-ORIGINAL-URL:https://laartigua.es
X-WR-CALDESC:Eventos para La Artigua
REFRESH-INTERVAL;VALUE=DURATION:PT1H
X-Robots-Tag:noindex
X-PUBLISHED-TTL:PT1H
BEGIN:VTIMEZONE
TZID:Europe/Madrid
BEGIN:DAYLIGHT
TZOFFSETFROM:+0100
TZOFFSETTO:+0200
TZNAME:CEST
DTSTART:20240331T010000
END:DAYLIGHT
BEGIN:STANDARD
TZOFFSETFROM:+0200
TZOFFSETTO:+0100
TZNAME:CET
DTSTART:20241027T010000
END:STANDARD
END:VTIMEZONE
BEGIN:VEVENT
DTSTART;TZID=Europe/Madrid:20240211T100000
DTEND;TZID=Europe/Madrid:20240211T130000
DTSTAMP:20260420T095207
CREATED:20240130T143347Z
LAST-MODIFIED:20240130T143347Z
UID:7731-1707645600-1707656400@laartigua.es
SUMMARY:Taller de COSMÉTICA NATURAL con Almudena Escalona
DESCRIPTION:En este taller de COSMÉTICA NATURAL aprenderás las bases para cuidar tu piel de una manera sana y sostenible .  Además te llevarás a casa muchas recetas y las propias elaboraciones que hagamos en el taller: \n\nCrema facial\nBálsamo labial \nSerum antioxidante\n\nPasarás una mañana con las manos en la masa\, aprendiendo una disciplina que te hará disfrutar de tu tiempo y hacer un consumo responsable de cosméticos para toda la vida. \nEl taller lo imparte Almudena Escalona\, alumna de La Artigua\, y una apasionada de estas artes que os sonará porque fue la responsable del taller de jabones.  \nPara más información y reservas escribir a laartigua@gmail.com \nPara la reserva de plaza se debe abonar el importe íntegro del taller. \nSerá necesario un mínimo de 5 alumnos para que se lleve a cabo el taller. En caso de que no se llegue a ese número de alumnos o que el taller tuviera que cancelarse por parte de La Artigua\, se le devolverá el importe íntegro.  \nEn caso de que sea el alumno quien  no asista al taller\, se le devolverá el 50% del importe sólo en el caso de que la cancelación sea con un mínimo de 5 días de antelación.
URL:https://laartigua.es/event/taller-de-cosmetica-natural-con-almudena-escalona-2/
LOCATION:La Artigua\, C/Hierbabuena 12\, Madrid\, 28039\, España
CATEGORIES:evento,formación
ATTACH;FMTTYPE=image/jpeg:https://laartigua.es/wp-content/uploads/2023/03/labial.jpg
END:VEVENT
END:VCALENDAR