BEGIN:VCALENDAR
VERSION:2.0
PRODID:-//La Artigua - ECPv6.3.5//NONSGML v1.0//EN
CALSCALE:GREGORIAN
METHOD:PUBLISH
X-ORIGINAL-URL:http://laartigua.es
X-WR-CALDESC:Eventos para La Artigua
REFRESH-INTERVAL;VALUE=DURATION:PT1H
X-Robots-Tag:noindex
X-PUBLISHED-TTL:PT1H
BEGIN:VTIMEZONE
TZID:Europe/Madrid
BEGIN:DAYLIGHT
TZOFFSETFROM:+0100
TZOFFSETTO:+0200
TZNAME:CEST
DTSTART:20250330T010000
END:DAYLIGHT
BEGIN:STANDARD
TZOFFSETFROM:+0200
TZOFFSETTO:+0100
TZNAME:CET
DTSTART:20251026T010000
END:STANDARD
END:VTIMEZONE
BEGIN:VEVENT
DTSTART;TZID=Europe/Madrid:20251213T180000
DTEND;TZID=Europe/Madrid:20251213T200000
DTSTAMP:20260422T125447
CREATED:20250917T232626Z
LAST-MODIFIED:20250917T232626Z
UID:7906-1765648800-1765656000@laartigua.es
SUMMARY:Dibujo con MODELO
DESCRIPTION:Este curso queremos realizar periódicamente sesiones de dibujo con modelo vivo\, una sesión al mes. Habrá sesiones con modelo femenino\, y sesiones con modelo masculino\, sesiones de apuntes rápidos\, y sesiones con poses más largas. Este curso el encargado de acompañar estas sesiones es David Do Nascimento.  \nComo novedad este curso hemos publicado ya todas las fechas de las sesiones con modelo para que puedas apuntarte a todas y que te salga un poquillo más barato. Si quieres ver todas las fechas pincha aquí. \nSi no lo has probado nunca\, las sesiones con modelo son las mayores oportunidades de aprendizaje que vas a tener en el campo del dibujo: anatomía\, proporciones\, ritmos… ¡pero además se disfrutan un montón! Contamos para estas sesiones con modelos profesionales de complexiones diversas.  \nPara esta sesión puedes traer todo el material de dibujo que quieras\, desde tinta\, acuarela\, sanguina\, bolígrafo\, rotuladores\, o lo que se te ocurra\, ahora bien\, si  es la primera vez que vas a acudir a una sesión de este tipo\, será imprescindible un cuaderno\, un lapicero y una goma de borrar. \n¡Quién prueba repite! \nLa plazas están muy limitadas\, por lo que si estás interesado en acudir reserva cuanto antes tu plaza mandando un email a laartigua@gmail.com \nPara llevar a cabo la sesión es necesario que haya un mínimo de 5 alumnos\, si no se llegara a ese número se devolverá el importe íntegro del taller. Del mismo modo\, para tener derecho a la devolución del importe de la sesión es necesario avisar con un mínimo de una semana de antelación.
URL:http://laartigua.es/event/dibujo-con-modelo-22/
LOCATION:La Artigua\, C/Hierbabuena 12\, Madrid\, 28039\, España
CATEGORIES:evento,formación
ATTACH;FMTTYPE=image/jpeg:http://laartigua.es/wp-content/uploads/2022/09/desnudo-scaled.jpg
END:VEVENT
BEGIN:VEVENT
DTSTART;TZID=Europe/Madrid:20251214T100000
DTEND;TZID=Europe/Madrid:20251214T130000
DTSTAMP:20260422T125447
CREATED:20250917T225926Z
LAST-MODIFIED:20250917T225926Z
UID:7897-1765706400-1765717200@laartigua.es
SUMMARY:Taller de Corona Navideña con Mª José Martínez Bermejo
DESCRIPTION:En este taller aprenderás a crear tu propia CORONA FLORAL para celebrar la navidad. Conocerás los distintos tipos de flores y sus combinaciones más acertadas\, y te llevarás a casa una corona hecha por ti\, para decorar tu casa o para regalar a alguien a quien quieras mucho.  \nQue el arte va más allá de un lienzo\, es sabido por todos\, y que la fuente primera de inspiración para los artistas ha sido la naturaleza también. Con su paleta de colores y olores\, las flores nos ofrecen inmensas obras de belleza que ahora queremos enseñarte a combinar para crear piezas únicas.  \nTrabajaremos con flores naturales\, flores secas y flores preservadas. \nEl taller lo imparte Mª José Martínez Bermejo (echa un ojo a su Instagram). \nPara información e inscripciones escribe a laartigua@gmail.com. \nSe necesitará un mínimo de 5 alumnos para que se lleve a cabo el taller. En caso de cancelación es necesario avisar con 5 días de antelación.
URL:http://laartigua.es/event/taller-de-corona-navidena-con-ma-jose-martinez-bermejo-2/
LOCATION:La Artigua\, C/Hierbabuena 12\, Madrid\, 28039\, España
CATEGORIES:evento,formación
ATTACH;FMTTYPE=image/jpeg:http://laartigua.es/wp-content/uploads/2022/11/IMG_5222.jpg
END:VEVENT
END:VCALENDAR