BEGIN:VCALENDAR
VERSION:2.0
PRODID:-//La Artigua - ECPv6.3.5//NONSGML v1.0//EN
CALSCALE:GREGORIAN
METHOD:PUBLISH
X-WR-CALNAME:La Artigua
X-ORIGINAL-URL:http://laartigua.es
X-WR-CALDESC:Eventos para La Artigua
REFRESH-INTERVAL;VALUE=DURATION:PT1H
X-Robots-Tag:noindex
X-PUBLISHED-TTL:PT1H
BEGIN:VTIMEZONE
TZID:Europe/Madrid
BEGIN:DAYLIGHT
TZOFFSETFROM:+0100
TZOFFSETTO:+0200
TZNAME:CEST
DTSTART:20250330T010000
END:DAYLIGHT
BEGIN:STANDARD
TZOFFSETFROM:+0200
TZOFFSETTO:+0100
TZNAME:CET
DTSTART:20251026T010000
END:STANDARD
END:VTIMEZONE
BEGIN:VEVENT
DTSTART;TZID=Europe/Madrid:20250309T100000
DTEND;TZID=Europe/Madrid:20250309T133000
DTSTAMP:20260423T055220
CREATED:20240927T043302Z
LAST-MODIFIED:20240927T043302Z
UID:7829-1741514400-1741527000@laartigua.es
SUMMARY:SESIÓN 5. Arte y emociones para peques.
DESCRIPTION:QUINTA SESIÓN  “Un lugar en el mundo”  de los talleres programados para este curso por Camino Imaginario. \n\nPrograma de 6 talleres en los que explorar la creatividad mediante innovadoras técnicas expresivas con el acompañamiento de Camino Imaginario. \nTendremos sesiones infantiles de una hora y media de duración\, y sesiones para adultos de dos horas y media. Cada sesión será un espacio diferente preparado para la estimulación sensorial y conceptual de las/os participantes. Manipularemos\, exploraremos diferentes materiales y lenguajes y nos proyectaremos a través del arte. \nEste curso 2024-2025 arrancamos con un nuevo programa\, “A TRAVÉS DEL ESPEJO”. Seis talleres monográficos para los que hemos diseñado experiencias que permitirán a las/os participantes desplegarse de manera individual y social a través de actividades artísticas multidisciplinares con un eje fundamental: \nSENTIR-PENSAR-REFLEXIONAR para CRECER \nCuando miramos arte\, cuando entramos en un proceso creativo\, abrimos infinidad de caminos y activamos toda una red neuronal que nos permite una interacción dinámica que abarca la creatividad\, la reflexión\, la ejecución física y la emoción. \nCada obra de Arte es hija de su tiempo y\, a menudo\, madre de nuestros sentimientos. W. Kandinsky. \n  \nEstas son las fechas programadas de las sesiones de este curso: \nSESIONES INFANTILES (dos turnos de 10 a 11:30h y de 12 a 13:30h) \nSESION 1. 6 Octubre – “A través del espejo” \nSESION 2. 17 Noviembre – “Piedras” \nSESION 3. 12 Enero – “Simetrías” \nSESION 4. 9 Febrero – “Mi puerta Invisible” \nSESIÓN 5. 9 Marzo- “Un lugar en el mundo” \nSESION 6. 6 Abril – “Te Veo” \nSESIONES PARA ADULTOS (de 10 a 12:30h) \nSESIÓN 1. 27 Octubre – “A través del espejo” \nSESIÓN 2. 24 Noviembre -“Piedras” \nSESIÓN 3. 19 Enero – “Red” \nSESIÓN 4. 16 Febrero – “Yo\, casa” \nSESIÓN 5. 16 Marzo – “Círculo invisible” \nSESIÓN 6. 27 Abril – “Un lugar en el mundo” \nCamino Imaginario nace en el 2016 como proyecto educativo enfocado al trabajo con Inteligencia Emocional y el crecimiento personal utilizando el arte como herramienta principal. \nDesde entonces son numerosos los talleres que hemos llevado a cabo acompañando a grupos tanto infantiles como adultos. \nTrabajamos desde una mirada constructiva\, acogemos lo que nos ofrece el presente para construir el futuro\, proporcionando espacios y dinámicas que fomenten el desarrollo de la capacidad humana\, emocional y creativa del individuo. Creemos que el progreso hacia un mundo más tecnológico necesitará\, cada vez más\, del apoyo de una conciencia más humana. Sabemos que la creación artística es un camino directo al interior y un modo de ser esencia. \nEl precio del programa completo de 6 talleres es de 150€\, existe la posibilidad de apuntarse a talleres sueltos siempre que haya disponibilidad de plazas. Precio de los talleres sueltos 30€. \nPara más información y reservas escribid a laartigua@gmail.com
URL:http://laartigua.es/event/sesion-5-arte-y-emociones-para-peques/
LOCATION:La Artigua\, C/Hierbabuena 12\, Madrid\, 28039\, España
CATEGORIES:arte infantil,evento,formación
ATTACH;FMTTYPE=image/jpeg:http://laartigua.es/wp-content/uploads/2024/09/A-TRaVeS-del-ESpPEjO.jpg
END:VEVENT
BEGIN:VEVENT
DTSTART;TZID=Europe/Madrid:20250316T100000
DTEND;TZID=Europe/Madrid:20250316T123000
DTSTAMP:20260423T055220
CREATED:20240927T044824Z
LAST-MODIFIED:20240927T044824Z
UID:7841-1742119200-1742128200@laartigua.es
SUMMARY:SESIÓN 5. Arte y emociones para adultos.
DESCRIPTION:QUINTA SESIÓN  “Círculo invisible”  de los talleres programados para este curso por Camino Imaginario. \n\nPrograma de 6 talleres en los que explorar la creatividad mediante innovadoras técnicas expresivas con el acompañamiento de Camino Imaginario. \nTendremos sesiones infantiles de una hora y media de duración\, y sesiones para adultos de dos horas y media. Cada sesión será un espacio diferente preparado para la estimulación sensorial y conceptual de las/os participantes. Manipularemos\, exploraremos diferentes materiales y lenguajes y nos proyectaremos a través del arte. \nEste curso 2024-2025 arrancamos con un nuevo programa\, “A TRAVÉS DEL ESPEJO”. Seis talleres monográficos para los que hemos diseñado experiencias que permitirán a las/os participantes desplegarse de manera individual y social a través de actividades artísticas multidisciplinares con un eje fundamental: \nSENTIR-PENSAR-REFLEXIONAR para CRECER \nCuando miramos arte\, cuando entramos en un proceso creativo\, abrimos infinidad de caminos y activamos toda una red neuronal que nos permite una interacción dinámica que abarca la creatividad\, la reflexión\, la ejecución física y la emoción. \nCada obra de Arte es hija de su tiempo y\, a menudo\, madre de nuestros sentimientos. W. Kandinsky. \n  \nEstas son las fechas programadas de las sesiones de este curso: \nSESIONES INFANTILES (dos turnos de 10 a 11:30h y de 12 a 13:30h) \nSESION 1. 6 Octubre – “A través del espejo” \nSESION 2. 17 Noviembre – “Piedras” \nSESION 3. 12 Enero – “Simetrías” \nSESION 4. 9 Febrero – “Mi puerta Invisible” \nSESIÓN 5. 9 Marzo- “Un lugar en el mundo” \nSESION 6. 6 Abril – “Te Veo” \nSESIONES PARA ADULTOS (de 10 a 12:30h) \nSESIÓN 1. 27 Octubre – “A través del espejo” \nSESIÓN 2. 24 Noviembre -“Piedras” \nSESIÓN 3. 19 Enero – “Red” \nSESIÓN 4. 16 Febrero – “Yo\, casa” \nSESIÓN 5. 16 Marzo – “Círculo invisible” \nSESIÓN 6. 27 Abril – “Un lugar en el mundo” \nCamino Imaginario nace en el 2016 como proyecto educativo enfocado al trabajo con Inteligencia Emocional y el crecimiento personal utilizando el arte como herramienta principal. \nDesde entonces son numerosos los talleres que hemos llevado a cabo acompañando a grupos tanto infantiles como adultos. \nTrabajamos desde una mirada constructiva\, acogemos lo que nos ofrece el presente para construir el futuro\, proporcionando espacios y dinámicas que fomenten el desarrollo de la capacidad humana\, emocional y creativa del individuo. Creemos que el progreso hacia un mundo más tecnológico necesitará\, cada vez más\, del apoyo de una conciencia más humana. Sabemos que la creación artística es un camino directo al interior y un modo de ser esencia. \nEl precio del programa completo de 6 talleres es de 150€\, existe la posibilidad de apuntarse a talleres sueltos siempre que haya disponibilidad de plazas. Precio de los talleres sueltos 30€. \nPara más información y reservas escribid a laartigua@gmail.com
URL:http://laartigua.es/event/sesion-5-arte-y-emociones-para-adultos/
LOCATION:La Artigua\, C/Hierbabuena 12\, Madrid\, 28039\, España
CATEGORIES:evento,formación
ATTACH;FMTTYPE=image/jpeg:http://laartigua.es/wp-content/uploads/2024/09/A-TRaVeS-del-ESpPEjO.jpg
END:VEVENT
BEGIN:VEVENT
DTSTART;TZID=Europe/Madrid:20250322T180000
DTEND;TZID=Europe/Madrid:20250322T200000
DTSTAMP:20260423T055220
CREATED:20250127T125555Z
LAST-MODIFIED:20250127T125555Z
UID:7875-1742666400-1742673600@laartigua.es
SUMMARY:El color como agente morfológico en la composición pictórica. (Sesión dos)
DESCRIPTION:Con el título “El color como agente morfológico en la composición pictórica” queríamos ponernos serias. Que pintar se pinta más con la cabeza que con la mano\, es algo que poco a poco vamos descubriendo. El bagaje teórico es algo incuestionable a cualquier artista\, y con esta charla queremos justamente eso\, dejar un poso teórico en tu práctica pictórica.  \nEn esta charla de teoría del color aprenderás su comportamiento físico\, químico\, sus caracterización\, sus armonías y mil cosas más que no puedes perderte si pretendes pintar con fundamento.  \nPara impartir esta charla hemos engañado a Mª José García Molina\, profesora nuestra de la facultad y a quien debemos\, entre otras cosas\, que La Artigua exista. Es un honor que venga a la academia y para los alumnos una oportunidad increíble de aprendizaje. Lleva impartiendo muchos años la asignatura de color y es un referente en la formación de artistas y restauradores de Madrid.  \nEsta charla es la segunda parte\, del taller que impartió Mª José García Molina hace un año. Está especialmente indicado para aquellos alumnos que asistieron a la primera sesión\, no obstante también se pueden beneficiar de sus enseñanzas aquellos que no pudieron asistir a la primera parte. \nLa charla será el 22 de marzo de 18-20h y está limitada a 20 personas.  \nPrecio del taller 10€ (gratuito para aquellos alumnos que asistieron a la primera parte\, aunque es imprescindible reservar con antelación) \nPara más información y reservas escribid a laartigua@gmail.com.
URL:http://laartigua.es/event/el-color-como-agente-morfologico-en-la-composicion-pictorica-sesion-dos/
LOCATION:La Artigua\, C/Hierbabuena 12\, Madrid\, 28039\, España
CATEGORIES:evento,formación
ATTACH;FMTTYPE=image/jpeg:http://laartigua.es/wp-content/uploads/2021/08/goethe.jpg
END:VEVENT
BEGIN:VEVENT
DTSTART;TZID=Europe/Madrid:20250323T110000
DTEND;TZID=Europe/Madrid:20250323T130000
DTSTAMP:20260423T055220
CREATED:20250127T121847Z
LAST-MODIFIED:20250205T171738Z
UID:7865-1742727600-1742734800@laartigua.es
SUMMARY:Dibujo con MODELO
DESCRIPTION:Este curso queremos realizar periódicamente sesiones de dibujo con modelo vivo. \nEs una de las disciplinas de dibujo que ofrece más posibilidades al aprendizaje: anatomía\, proporciones\, ritmos… pero además se disfruta un montón y contamos para estas sesiones con un modelo excepcional que posa con elegancia en sesiones clásicas y contemporáneas. \nLa sesión consta de dos horas en las que se sucederán apuntes rápidos y poses más largas. \nPara esta sesión puedes traer todo el material de dibujo que quieras\, desde tinta\, acuarela\, sanguina\, bolígrafo\, rotuladores\, o lo que se te ocurra\, ahora bien\, si  es la primera vez que vas a acudir a una sesión de este tipo\, será imprescindible un cuaderno\, un lapicero y una goma de borrar. \nQuién prueba repite. \nLa plazas están muy limitadas\, por lo que si estás interesado en acudir reserva cuanto antes tu plaza mandando un email a laartigua@gmail.com
URL:http://laartigua.es/event/dibujo-con-modelo-17/
LOCATION:La Artigua\, C/Hierbabuena 12\, Madrid\, 28039\, España
CATEGORIES:evento,formación
ATTACH;FMTTYPE=image/jpeg:http://laartigua.es/wp-content/uploads/2022/09/desnudo-scaled.jpg
END:VEVENT
END:VCALENDAR