BEGIN:VCALENDAR
VERSION:2.0
PRODID:-//La Artigua - ECPv6.3.5//NONSGML v1.0//EN
CALSCALE:GREGORIAN
METHOD:PUBLISH
X-ORIGINAL-URL:http://laartigua.es
X-WR-CALDESC:Eventos para La Artigua
REFRESH-INTERVAL;VALUE=DURATION:PT1H
X-Robots-Tag:noindex
X-PUBLISHED-TTL:PT1H
BEGIN:VTIMEZONE
TZID:Europe/Madrid
BEGIN:DAYLIGHT
TZOFFSETFROM:+0100
TZOFFSETTO:+0200
TZNAME:CEST
DTSTART:20210328T010000
END:DAYLIGHT
BEGIN:STANDARD
TZOFFSETFROM:+0200
TZOFFSETTO:+0100
TZNAME:CET
DTSTART:20211031T010000
END:STANDARD
END:VTIMEZONE
BEGIN:VEVENT
DTSTART;TZID=Europe/Madrid:20211211T160000
DTEND;TZID=Europe/Madrid:20211211T190000
DTSTAMP:20260422T202506
CREATED:20211111T151920Z
LAST-MODIFIED:20211111T151920Z
UID:7103-1639238400-1639249200@laartigua.es
SUMMARY:Taller de afieltrado de lana
DESCRIPTION: Os presentamos la segunda edición del curso de afieltrado en lana que hicimos hace un año. En esta ocasión además del afieltrado de lana con aguja se introduce el abatanado en húmedo que ofrece muchas otras posibilidades.  \nPara impartir este taller contaremos con Mounya Accad\, artista enamorada de trabajar la lana con sus manos.  \nLa técnica consiste en ir abatanando la lana hasta convertirla en fieltro y poder construir bellas figuras y composiciones con ella. La propia naturaleza de la lana hace que sea una maravillla trabajar con ella\, más si es invierno\, y más aún si al lado de una infusión calentita. Este curso es una oportunidad para adentrarse en una afición que ofrece muchas posibilidades expresivas y no requiere mucha infraestructura.  \nEn este taller “pintaremos” un cuadro y  crearemos una figura de inspiración invernal para que puedas aprender las técnicas básicas de esta disciplina.  \n \nEste taller se realizará en dos sesiones para respetar los tiempos de secado de la lana: \nEl 11 de diciembre de 16 a 19h \nEl 18 de diciembre de 16 a 19h \nEl precio es una ganga para que sea accesible a todo el mundo 45€. \n  \nPara más información y reservas: laartigua@gmail.com
URL:http://laartigua.es/event/taller-de-afieltrado-de-lana/
CATEGORIES:formación
ATTACH;FMTTYPE=image/jpeg:http://laartigua.es/wp-content/uploads/2021/11/lana1.jpg
END:VEVENT
BEGIN:VEVENT
DTSTART;TZID=Europe/Madrid:20211204T170000
DTEND;TZID=Europe/Madrid:20211204T190000
DTSTAMP:20260422T202506
CREATED:20211112T100007Z
LAST-MODIFIED:20211112T100230Z
UID:7111-1638637200-1638644400@laartigua.es
SUMMARY:PROYECTO KIDS 2021-22
DESCRIPTION:Desde ESNE Escuela Universitaria de Diseño\, Innovación y Tecnología\, y su profesora Victoria Vásquez Pecile\, se nos ha propuesto participar en el PROYECTO KIDS 2021-22. Se trata de un proyecto de investigación sobre diseño\, patronaje y confección de prendas infantiles para peques de entre 6 y 8 años. \nLas alumnas de la escuela Yaiza\, Lara y Sofía nos comentan que cuando  investigaron sobre moda infantil se dieron cuenta de que la mayoría de diseños están hechos para el cliente\, es decir\, los padres\, dejando de lado el gusto o las necesidades de las criaturas que iban a llevar las prendas\, por lo que tuvieron la idea de tomar al niño como protagonista en la toma de decisiones del diseño de las prendas\, teniendo en cuenta detalles como bolsillos de tamaño grande para que les quepan todos los juguetes o utensilios que quieran llevar o clips y gomas en vez de botones\, y  sobre todo la comodidad para jugar y moverse de forma libre. Esto en cuanto a las formas\, pero también la idea de incluirles en el proceso de diseño de la manera más creativa posible: dejando que ellos realicen el estampado. Los niños nos enseñan más de lo que creemos\, ya que abordan la vida de una manera muy distinta a nosotros: sin estereotipos\, tabúes\, doble moral\, y con inocencia\, pureza e imaginación. \nPara ello presentamos un taller infantil en el que proporcionaremos metros y metros de tejido y pintura de colores para que pinten de manera libre lo que luego formará los estampados de la colección. Lo que buscamos es que los niños se expresen tal y como ellos se sientan sin ningún tipo de tapujo\, por lo que comenzaremos la actividad con una serie de preguntas y estímulos para los niños\, para que a partir de ahí puedan empezar a expresar sus sentimientos. \nFinalmente\, nos gustaría crear contenido audiovisual que resuma el desarrollo de la actividad y enriquecer el proyecto; manteniendo siempre el anonimato de los niños\, sacando planos de sus manos pintando y del entorno en el que vamos a llevarlo a cabo. \nEl taller será el próximo 4 de diciembre en horario de 17 a 19h. \nEl taller es totalmente gratuito\, y los peques podrán llevarse a casa parte de sus creaciones. \n  \nInformación y reservas en laartigua@gmail.com \n 
URL:http://laartigua.es/event/proyecto-kids-2021-22/
LOCATION:La Artigua\, C/Hierbabuena 12\, Madrid\, 28039\, España
CATEGORIES:formación
END:VEVENT
BEGIN:VEVENT
DTSTART;TZID=Europe/Madrid:20211023T180000
DTEND;TZID=Europe/Madrid:20211023T200000
DTSTAMP:20260422T202506
CREATED:20210928T201137Z
LAST-MODIFIED:20211005T200324Z
UID:7080-1635012000-1635019200@laartigua.es
SUMMARY:ARTE Y CIENCIA
DESCRIPTION:Que la ciencia y el arte van de la mano es algo por todos conocido\, desde la ciencia nos podemos acercar al arte y desde el arte a la ciencia.  \nEn este taller lo que queremos es introducir en los peques conocimientos científicos sirviéndonos de la plástica y siguiendo la metodología científica crear obras de arte.  \nDe la mano de la bióloga Lucía Bermejo\, experta en divulgación científica para niños\, conoceremos conceptos científicos de una manera empírica y sobre todo lúdica. Trabajaremos con huevos\, espirales\, animales\, lombarda\, agua y color\, el color no puede faltar.  \nEl taller tiene una duración de dos horas plagadas de experimentos que luego podrán repetir en casa.  \nEs un taller para niños de 6 a 12 años.  \nSi estás interesado mándanos un email a laartigua@gmail.com \n 
URL:http://laartigua.es/event/arte-y-ciencia/
LOCATION:La Artigua\, C/Hierbabuena 12\, Madrid\, 28039\, España
CATEGORIES:formación
ATTACH;FMTTYPE=image/jpeg:http://laartigua.es/wp-content/uploads/2021/09/bermejo.jpg
END:VEVENT
BEGIN:VEVENT
DTSTART;TZID=Europe/Madrid:20210911T110000
DTEND;TZID=Europe/Madrid:20210911T140000
DTSTAMP:20260422T202506
CREATED:20210728T082457Z
LAST-MODIFIED:20210728T083751Z
UID:5295-1631358000-1631368800@laartigua.es
SUMMARY:Taller macramé
DESCRIPTION:Este si que no te lo puedes perder!!\nCurso de inmersión en la técnica del macramé.\nEste taller es tanto para adultos\, como para niños\, para cualquiera con interés en la creación con este tejido.\nDurante el curso de macramé aprenderemos los cuatro nudos que se utilizan principalmente para esta técnica y sus posibles aplicaciones. Además cada uno elaborará una pieza decorativa guiada por la profesora\, introduciendo algunos de los nudos aprendidos.
URL:http://laartigua.es/event/taller-macrame/
LOCATION:La Artigua\, C/Hierbabuena 12\, Madrid\, 28039\, España
ATTACH;FMTTYPE=image/jpeg:http://laartigua.es/wp-content/uploads/2021/07/12151665945_718451f78a_b.jpg
END:VEVENT
BEGIN:VEVENT
DTSTART;TZID=Europe/Madrid:20210901T090000
DTEND;TZID=Europe/Madrid:20210901T210000
DTSTAMP:20260422T202506
CREATED:20210726T205118Z
LAST-MODIFIED:20210726T205118Z
UID:5271-1630486800-1630530000@laartigua.es
SUMMARY:Vuelta a las clases
DESCRIPTION:Volvemos!!
URL:http://laartigua.es/event/vuelta-a-las-clases/
LOCATION:La Artigua\, C/Hierbabuena 12\, Madrid\, 28039\, España
END:VEVENT
END:VCALENDAR