BEGIN:VCALENDAR
VERSION:2.0
PRODID:-//La Artigua - ECPv6.3.5//NONSGML v1.0//EN
CALSCALE:GREGORIAN
METHOD:PUBLISH
X-WR-CALNAME:La Artigua
X-ORIGINAL-URL:http://laartigua.es
X-WR-CALDESC:Eventos para La Artigua
REFRESH-INTERVAL;VALUE=DURATION:PT1H
X-Robots-Tag:noindex
X-PUBLISHED-TTL:PT1H
BEGIN:VTIMEZONE
TZID:Europe/Madrid
BEGIN:DAYLIGHT
TZOFFSETFROM:+0100
TZOFFSETTO:+0200
TZNAME:CEST
DTSTART:20210328T010000
END:DAYLIGHT
BEGIN:STANDARD
TZOFFSETFROM:+0200
TZOFFSETTO:+0100
TZNAME:CET
DTSTART:20211031T010000
END:STANDARD
BEGIN:DAYLIGHT
TZOFFSETFROM:+0100
TZOFFSETTO:+0200
TZNAME:CEST
DTSTART:20220327T010000
END:DAYLIGHT
BEGIN:STANDARD
TZOFFSETFROM:+0200
TZOFFSETTO:+0100
TZNAME:CET
DTSTART:20221030T010000
END:STANDARD
END:VTIMEZONE
BEGIN:VEVENT
DTSTART;TZID=Europe/Madrid:20221204T103000
DTEND;TZID=Europe/Madrid:20221204T133000
DTSTAMP:20260422T184003
CREATED:20221110T100310Z
LAST-MODIFIED:20221111T103502Z
UID:7344-1670149800-1670160600@laartigua.es
SUMMARY:Taller de ARREGLO FLORAL NAVIDEÑO
DESCRIPTION:En este taller aprenderás a crear tus propios arreglos florales . Conocerás los distintos tipos de flores y sus combinaciones más acertadas\, y te llevarás a casa dos obras hechas por ti mismo\, un pequeño centro floral y una corona de pared.  \nQue el arte va más allá de un lienzo\, es sabido por todos\, y que la fuente primera de inspiración para los artistas ha sido la naturaleza también. Con su paleta de colores y de olores\, las flores nos ofrecen inmensas obras de belleza que ahora queremos enseñarte a combinar para crear piezas únicas.  \nEn navidad todas las casas se llenan de arreglos florales ¿te habías planteado hacerlos tú este año? ¿y regalárselos a tus seres más queridos? \nEl taller lo imparte Mª José Martínez Bermejo (echa un ojo a su Instagram). \nPara información e inscripciones escribe a laartigua@gmail.com. \nSe necesitará un mínimo de 5 alumnos para que se lleve a cabo el taller. En caso de cancelación es necesario avisar con 5 días de antelación.
URL:http://laartigua.es/event/taller-de-arreglo-floral-navideno/
LOCATION:La Artigua\, C/Hierbabuena 12\, Madrid\, 28039\, España
CATEGORIES:evento,formación
ATTACH;FMTTYPE=image/jpeg:http://laartigua.es/wp-content/uploads/2022/11/IMG_5222.jpg
END:VEVENT
BEGIN:VEVENT
DTSTART;TZID=Europe/Madrid:20221203T180000
DTEND;TZID=Europe/Madrid:20221203T200000
DTSTAMP:20260422T184004
CREATED:20220906T212257Z
LAST-MODIFIED:20220906T212257Z
UID:7249-1670090400-1670097600@laartigua.es
SUMMARY:Dibujo con modelo
DESCRIPTION:Este curso queremos realizar periódicamente sesiones de dibujo con modelo vivo. \nEs una de las disciplinas de dibujo que ofrece más posibilidades al aprendizaje: anatomía\, proporciones\, ritmos… pero además se disfruta un montón y contamos para estas sesiones con un modelo excepcional que posa con elegancia en sesiones clásicas y contemporáneas. \nLa sesión consta de dos horas en las que se sucederán apuntes rápidos y poses más largas. \nPara esta sesión puedes traer todo el material de dibujo que quieras\, desde tinta\, acuarela\, sanguina\, bolígrafo\, rotuladores\, o lo que se te ocurra\, ahora bien\, si  es la primera vez que vas a acudir a una sesión de este tipo\, será imprescindible un cuaderno\, un lapicero y una goma de borrar. \nQuién prueba repite. \nLa plazas están muy limitadas\, por lo que si estás interesado en acudir reserva cuanto antes tu plaza mandando un email a laartigua@gmail.com
URL:http://laartigua.es/event/dibujo-con-modelo-3/
LOCATION:La Artigua\, C/Hierbabuena 12\, Madrid\, 28039\, España
CATEGORIES:evento,formación
ATTACH;FMTTYPE=image/jpeg:http://laartigua.es/wp-content/uploads/2022/09/desnudo-scaled.jpg
END:VEVENT
BEGIN:VEVENT
DTSTART;TZID=Europe/Madrid:20221127T103000
DTEND;TZID=Europe/Madrid:20221127T120000
DTSTAMP:20260422T184004
CREATED:20220912T210255Z
LAST-MODIFIED:20220915T091256Z
UID:7262-1669545000-1669550400@laartigua.es
SUMMARY:Proyecto "Huellas"- SESIÓN DOS: “SEGÚN SOPLA EL VIENTO”
DESCRIPTION:Descubriremos la utilidad de nuestras emociones para poder autorregularlas y así adaptarnos a las diferentes situaciones  que nos vamos encontrando a lo largo de la vida. \nPara conocer más del proyecto “Huellas” pincha aquí.
URL:http://laartigua.es/event/proyecto-huellas-sesion-dos-segun-sopla-el-viento/
LOCATION:La Artigua\, C/Hierbabuena 12\, Madrid\, 28039\, España
CATEGORIES:arte infantil,evento,formación
ATTACH;FMTTYPE=image/jpeg:http://laartigua.es/wp-content/uploads/2022/09/huellas-2.jpg
END:VEVENT
BEGIN:VEVENT
DTSTART;TZID=Europe/Madrid:20221119T180000
DTEND;TZID=Europe/Madrid:20221119T203000
DTSTAMP:20260422T184004
CREATED:20221109T173254Z
LAST-MODIFIED:20221109T175608Z
UID:7332-1668880800-1668889800@laartigua.es
SUMMARY:Taller de RESINA DECORATIVA
DESCRIPTION:En este taller aprenderás a hacer tus propias piezas en resina y a decorarlas a tu gusto. Te llevarás a casa tus propias creaciones\, hechas a tu gusto con los materiales que te facilitaremos en el taller. Pero además conocerás una técnica con mil posibilidades expresivas con las que sorprenderás a todo el mundo con tus piezas únicas. \nLas resinas con fines decorativos se han puesto de moda por su versatilidad para crear obras de joyería\, pequeñas piezas decorativas para el hogar y mil cosas más. \nEl taller lo imparte Sara Medina. Para conocer su trabajo consulta su Instagram \nEste taller de 4\,5 horas\, se llevará a cabo en dos sesiones: \n19 de noviembre: de 18-20:30h \n20 de noviembre: de 18-20h \nEn la primera sesión se introducirá a los alumnos en los distintos tipos de materiales  y sus aplicaciones\, y se procederá a realizar el positivado de las piezas. \nEn la segunda sesión se desmoldarán las piezas y se llevarán a cabo todas las tareas de acabado (pulido\, montaje etc.) \nPara más información e inscripciones manda un email a laartigua@gmail.com.  \nSe necesitará un mínimo de 5 alumnos para que se lleve a cabo el taller. En caso de cancelación es necesario avisar con 5 días de antelación. \n 
URL:http://laartigua.es/event/taller-de-resina-decorativa/
LOCATION:La Artigua\, C/Hierbabuena 12\, Madrid\, 28039\, España
CATEGORIES:evento,formación
ATTACH;FMTTYPE=image/jpeg:http://laartigua.es/wp-content/uploads/2022/11/IMG-0306-scaled.jpg
END:VEVENT
BEGIN:VEVENT
DTSTART;TZID=Europe/Madrid:20221105T180000
DTEND;TZID=Europe/Madrid:20221105T200000
DTSTAMP:20260422T184004
CREATED:20220906T212030Z
LAST-MODIFIED:20220906T212030Z
UID:7247-1667671200-1667678400@laartigua.es
SUMMARY:Dibujo con modelo
DESCRIPTION:Este curso queremos realizar periódicamente sesiones de dibujo con modelo vivo. \nEs una de las disciplinas de dibujo que ofrece más posibilidades al aprendizaje: anatomía\, proporciones\, ritmos… pero además se disfruta un montón y contamos para estas sesiones con un modelo excepcional que posa con elegancia en sesiones clásicas y contemporáneas. \nLa sesión consta de dos horas en las que se sucederán apuntes rápidos y poses más largas. \nPara esta sesión puedes traer todo el material de dibujo que quieras\, desde tinta\, acuarela\, sanguina\, bolígrafo\, rotuladores\, o lo que se te ocurra\, ahora bien\, si  es la primera vez que vas a acudir a una sesión de este tipo\, será imprescindible un cuaderno\, un lapicero y una goma de borrar. \nQuién prueba repite. \nLa plazas están muy limitadas\, por lo que si estás interesado en acudir reserva cuanto antes tu plaza mandando un email a laartigua@gmail.com
URL:http://laartigua.es/event/dibujo-con-modelo-2/
LOCATION:La Artigua\, C/Hierbabuena 12\, Madrid\, 28039\, España
CATEGORIES:evento,formación
ATTACH;FMTTYPE=image/jpeg:http://laartigua.es/wp-content/uploads/2022/09/desnudo-scaled.jpg
END:VEVENT
BEGIN:VEVENT
DTSTART;TZID=Europe/Madrid:20221023T100000
DTEND;TZID=Europe/Madrid:20221023T113000
DTSTAMP:20260422T184004
CREATED:20220912T210026Z
LAST-MODIFIED:20221013T103902Z
UID:7260-1666519200-1666524600@laartigua.es
SUMMARY:Proyecto "Huellas"- SESIÓN UNO: “EMOCIÓNATE ”
DESCRIPTION:En este taller repasaremos las emociones básicas y descubriremos su expresión fisiológica. Nuestro cuerpo siente y se expresa. \nPara conocer más del proyecto “Huellas” pincha aquí. \nEste taller tendrá dos sesiones\, la primera de 10-11:30 y la segunda de 12 a 13:30h.
URL:http://laartigua.es/event/proyecto-huellas-sesion-uno-emocionate/
LOCATION:La Artigua\, C/Hierbabuena 12\, Madrid\, 28039\, España
CATEGORIES:arte infantil,evento,formación
ATTACH;FMTTYPE=image/jpeg:http://laartigua.es/wp-content/uploads/2022/09/huellas-2.jpg
END:VEVENT
BEGIN:VEVENT
DTSTART;TZID=Europe/Madrid:20221022T170000
DTEND;TZID=Europe/Madrid:20221022T200000
DTSTAMP:20260422T184004
CREATED:20220906T214557Z
LAST-MODIFIED:20220912T204857Z
UID:7251-1666458000-1666468800@laartigua.es
SUMMARY:Taller de ilustración digital
DESCRIPTION:Taller de introducción a la ilustración digital \nTaller en el que seguirás el proceso paso a paso para crear obras digitales. Trabajaremos el paisaje\, y el retrato como motivos principales para que aprendas las herramientas y el lenguaje que te permitirá crear tus propias ilustraciones. Aprenderás a utilizar el programa\, sus pinceles\, y a aplicar texturas y efectos que te abrirán un mundo con posibilidades expresivas infinitas. \nEl taller será impartido por nuestra profesora Mónica Sierra Atienza. Si quieres conocer más a la artista y su obra pincha aquí. \nSi siempre has querido iniciarte en esta técnica\, no pierdas esta oportunidad\, no necesitas conocimientos previos. \nA partir de 12 años. \nRequisitos: Tablet con el programa “autodesk sketchbook” descargado en el dispositivo. \nLas plazas son limitadas\, para inscribirte mándanos un email a laartigua@gmail.com
URL:http://laartigua.es/event/taller-de-ilustracion-digital/
LOCATION:La Artigua\, C/Hierbabuena 12\, Madrid\, 28039\, España
CATEGORIES:evento,formación
ATTACH;FMTTYPE=image/png:http://laartigua.es/wp-content/uploads/2022/09/Moni-digital.png
END:VEVENT
BEGIN:VEVENT
DTSTART;TZID=Europe/Madrid:20221001T180000
DTEND;TZID=Europe/Madrid:20221001T200000
DTSTAMP:20260422T184004
CREATED:20220906T211537Z
LAST-MODIFIED:20220906T211537Z
UID:7243-1664647200-1664654400@laartigua.es
SUMMARY:Dibujo con modelo
DESCRIPTION:Este curso queremos realizar periódicamente sesiones de dibujo con modelo vivo. \nEs una de las disciplinas de dibujo que ofrece más posibilidades al aprendizaje: anatomía\, proporciones\, ritmos… pero además se disfruta un montón y contamos para estas sesiones con un modelo excepcional que posa con elegancia en sesiones clásicas y contemporáneas. \nLa sesión consta de dos horas en las que se sucederán apuntes rápidos y poses más largas. \nPara esta sesión puedes traer todo el material de dibujo que quieras\, desde tinta\, acuarela\, sanguina\, bolígrafo\, rotuladores\, o lo que se te ocurra\, ahora bien\, si  es la primera vez que vas a acudir a una sesión de este tipo\, será imprescindible un cuaderno\, un lapicero y una goma de borrar. \nQuién prueba repite. \nLa plazas están muy limitadas\, por lo que si estás interesado en acudir reserva cuanto antes tu plaza mandando un email a laartigua@gmail.com \n 
URL:http://laartigua.es/event/dibujo-con-modelo/
LOCATION:La Artigua\, C/Hierbabuena 12\, Madrid\, 28039\, España
CATEGORIES:evento,formación
ATTACH;FMTTYPE=image/jpeg:http://laartigua.es/wp-content/uploads/2022/09/desnudo-scaled.jpg
END:VEVENT
BEGIN:VEVENT
DTSTART;TZID=Europe/Madrid:20220627T090000
DTEND;TZID=Europe/Madrid:20220729T140000
DTSTAMP:20260422T184004
CREATED:20220417T210013Z
LAST-MODIFIED:20220510T154632Z
UID:7138-1656320400-1659103200@laartigua.es
SUMMARY:TALLERES INFANTILES DE VERANO 2022
DESCRIPTION:Ofrecemos planes artísticos para peques de 6 a 12 años. \nCada día será una propuesta artística diferente con materiales diversos para que puedan explorar distintas facetas artísticas.  \nEste año los talleres serán de lunes a viernes del 27 de junio al 29 de julio (5 semanas) en horario de 9 a 14h. \nTodos los materiales están incluidos en el precio y lo único que tienen que aportar los alumnos son sus ganas y ropa para mancharse. \nEste es el programa que vamos a seguir\, aunque puede sufrir modificaciones. \n  \nPRIMERA SEMANA \nLunes 27 de Junio: Taller de construcción con piezas sueltas. \nMartes 28 de Junio: Acuarela experimental. \nMiércoles 29 de Junio: Casitas y comederos para pájaros. \nJueves 30 de Junio: Trabajando a Van Gogh. \nViernes 1 de Julio: Introducción al macramé. \n  \n  \nSEGUNDA SEMANA \nLunes 4 de Julio: Escultura en blanco \nMartes 5 de Julio: Pintura abstracta sensorial. \nMiércoles 6 de Julio: Creando mundos pequeñitos. \nJueves 7 de Julio: Trabajando a Frida Kahlo \nViernes 8 de Julio: Tejedores. \n  \n  \nTERCERA SEMANA \n11 de Julio: Escultura en barro y metal \n12 de Julio: Pintura abstracta emocional. \n13 de Julio: Juguetes artesanales. \n14 de Julio: ¿Qué une a  Picasso\, Franz Marc\, Magritte y Miró? \n15 de Julio: Bordamos y cosemos. \n  \n  \nCUARTA SEMANA \n18 de Julio: Jugamos a ser Calder. \n19 de Julio: Dibujo y pintura del natural. \n20 de Julio: Criaturas de cartón. \n21 de Julio: Trabajando a Jackson Pollock. \n22 de Julio: Lana \n  \n  \nQUIINTA SEMANA \n25 de Julio: Creando moda. \n26 de Julio: Autorretrato. \n27 de Julio: Artes decorativas. \n28 de Julio: Trabajando a Piet Mondrian y Sonia Delaunay \n29 de Julio: Monotipos y marmoleados. \n  \n  \nPrecio por taller suelto: 35€ \nPrecio por semana: 150€ \n10% de descuento para hermanos. \n  \nEs imprescindible la preinscripción abonando con antelación el 50% del precio del taller. \nPara información y reservas escribir a laartigua@gmail.com.
URL:http://laartigua.es/event/talleres-infantiles-de-verano-2022/
LOCATION:La Artigua\, C/Hierbabuena 12\, Madrid\, 28039\, España
CATEGORIES:arte infantil,campamento urbano,formación,talleres de verano
ATTACH;FMTTYPE=image/jpeg:http://laartigua.es/wp-content/uploads/2021/04/talleres.jpg
END:VEVENT
BEGIN:VEVENT
DTSTART;TZID=Europe/Madrid:20220507T180000
DTEND;TZID=Europe/Madrid:20220507T210000
DTSTAMP:20260422T184004
CREATED:20220417T211629Z
LAST-MODIFIED:20220417T211629Z
UID:7141-1651946400-1651957200@laartigua.es
SUMMARY:Taller de ABSTRACCIÓN
DESCRIPTION:Y por fin después de haberlo pospuesto y cancelado unas cuantas veces por virus y vicisitudes llega el tan ansiado “Taller de abstracción”. \nSi quieres explorar las posibilidades expresivas del color\, de la materia y de la composición\, éste es tu curso.  \nEn este curso de 3 horas de duración conocerás qué es la pintura abstracta y lo que es más importante\, pintarás cuadros abstractos que te sorprenderán. \nTodo el material está incluido en el precio\, sólo tienes que aportar tu presencia\, y tus ganas de mancharte o una bata. \nPara información y reservas escribir a laartigua@gmail.com.
URL:http://laartigua.es/event/taller-de-abstraccion/
LOCATION:La Artigua\, C/Hierbabuena 12\, Madrid\, 28039\, España
CATEGORIES:formación
ATTACH;FMTTYPE=image/jpeg:http://laartigua.es/wp-content/uploads/2022/04/Cartel-Taller-Abstraccion-copia-1-scaled.jpg
END:VEVENT
BEGIN:VEVENT
DTSTART;TZID=Europe/Madrid:20220320T110000
DTEND;TZID=Europe/Madrid:20220320T123000
DTSTAMP:20260422T184004
CREATED:20220310T100947Z
LAST-MODIFIED:20220310T100947Z
UID:7132-1647774000-1647779400@laartigua.es
SUMMARY:SESIÓN 5. "JIGSAW". ARTE Y EMOCIONES PARA NIÑOS.
DESCRIPTION:Ya quedan pocas sesiones del programa “PUNTO\, LÍNEA y PLANO” de gestión emocional para peques a cargo de  CaminoImaginario. \nEn esta ocasión se realizará el taller “JIGSAW”. Este inmenso puzzle artístico\, está formado por la unión de diferentes piezas individuales creadas por cada participante. No puede faltar ninguna pieza pues\, de lo contrario\, el puzzle queda incompleto. Cada parte es distinta\, única\, aunque tiene una aspecto en común con el resto que las hace encajar. Nos servimos del Jigsaw o puzzle como símbolo de individuación pero a la vez de comunidad. En este taller trabajamos la importancia de las cualidades individuales\, la conciencia de grupo y el trabajo común. \nSi quieres participar todavía quedan plazas\, reserva tu plaza escribiendo a laartigua@gmail.com.
URL:http://laartigua.es/event/sesion-5-jigsaw-arte-y-emociones-para-ninos/
LOCATION:La Artigua\, C/Hierbabuena 12\, Madrid\, 28039\, España
CATEGORIES:arte infantil,formación
ATTACH;FMTTYPE=image/jpeg:http://laartigua.es/wp-content/uploads/2021/09/sombras-scaled.jpg
END:VEVENT
BEGIN:VEVENT
DTSTART;TZID=Europe/Madrid:20211212T110000
DTEND;TZID=Europe/Madrid:20211212T123000
DTSTAMP:20260422T184004
CREATED:20211112T093429Z
LAST-MODIFIED:20211112T093429Z
UID:7109-1639306800-1639312200@laartigua.es
SUMMARY:"Yo\, cuerpo"  PUNTO\, LÍNEA Y PLANO.
DESCRIPTION:“Yo\, cuerpo” es la segunda sesión del programa PUNTO\, LÍNEA Y PLANO  de educación emocional para niños a través del arte.  \nEl taller lo imparte CaminoImaginario\, expertas en regulación emocional basándose en la expresión artística. \nEl objetivo de esta sesión es tomar conciencia de mi cuerpo y el espacio que me rodea. En esta actividad realizaremos una obra con volumen a partir de la reflexión desde el propio cuerpo\, mis sensaciones y mis emociones. \nEs una oportunidad preciosa para que los peques entren en contacto con el mundo del arte dando forma a su propio mundo interior. Es una suerte poder ofrecer estos eventos en nuestro barrio. \nLa sesión será el domingo 12 de diciembre de 11 a 12:30h. \nEl precio por sesión es de 24€\, 120€ en el caso de inscribirse en el programa completo. Para ver el programa completo pincha aquí. \n  \nPara información y reservas escribir a laartigua@gmail.com
URL:http://laartigua.es/event/yo-cuerpo-punto-linea-y-plano/
LOCATION:La Artigua\, C/Hierbabuena 12\, Madrid\, 28039\, España
CATEGORIES:formación
ATTACH;FMTTYPE=image/jpeg:http://laartigua.es/wp-content/uploads/2021/09/sombras-1-scaled.jpg
END:VEVENT
BEGIN:VEVENT
DTSTART;TZID=Europe/Madrid:20211211T160000
DTEND;TZID=Europe/Madrid:20211211T190000
DTSTAMP:20260422T184004
CREATED:20211111T151920Z
LAST-MODIFIED:20211111T151920Z
UID:7103-1639238400-1639249200@laartigua.es
SUMMARY:Taller de afieltrado de lana
DESCRIPTION: Os presentamos la segunda edición del curso de afieltrado en lana que hicimos hace un año. En esta ocasión además del afieltrado de lana con aguja se introduce el abatanado en húmedo que ofrece muchas otras posibilidades.  \nPara impartir este taller contaremos con Mounya Accad\, artista enamorada de trabajar la lana con sus manos.  \nLa técnica consiste en ir abatanando la lana hasta convertirla en fieltro y poder construir bellas figuras y composiciones con ella. La propia naturaleza de la lana hace que sea una maravillla trabajar con ella\, más si es invierno\, y más aún si al lado de una infusión calentita. Este curso es una oportunidad para adentrarse en una afición que ofrece muchas posibilidades expresivas y no requiere mucha infraestructura.  \nEn este taller “pintaremos” un cuadro y  crearemos una figura de inspiración invernal para que puedas aprender las técnicas básicas de esta disciplina.  \n \nEste taller se realizará en dos sesiones para respetar los tiempos de secado de la lana: \nEl 11 de diciembre de 16 a 19h \nEl 18 de diciembre de 16 a 19h \nEl precio es una ganga para que sea accesible a todo el mundo 45€. \n  \nPara más información y reservas: laartigua@gmail.com
URL:http://laartigua.es/event/taller-de-afieltrado-de-lana/
CATEGORIES:formación
ATTACH;FMTTYPE=image/jpeg:http://laartigua.es/wp-content/uploads/2021/11/lana1.jpg
END:VEVENT
BEGIN:VEVENT
DTSTART;TZID=Europe/Madrid:20211204T170000
DTEND;TZID=Europe/Madrid:20211204T190000
DTSTAMP:20260422T184004
CREATED:20211112T100007Z
LAST-MODIFIED:20211112T100230Z
UID:7111-1638637200-1638644400@laartigua.es
SUMMARY:PROYECTO KIDS 2021-22
DESCRIPTION:Desde ESNE Escuela Universitaria de Diseño\, Innovación y Tecnología\, y su profesora Victoria Vásquez Pecile\, se nos ha propuesto participar en el PROYECTO KIDS 2021-22. Se trata de un proyecto de investigación sobre diseño\, patronaje y confección de prendas infantiles para peques de entre 6 y 8 años. \nLas alumnas de la escuela Yaiza\, Lara y Sofía nos comentan que cuando  investigaron sobre moda infantil se dieron cuenta de que la mayoría de diseños están hechos para el cliente\, es decir\, los padres\, dejando de lado el gusto o las necesidades de las criaturas que iban a llevar las prendas\, por lo que tuvieron la idea de tomar al niño como protagonista en la toma de decisiones del diseño de las prendas\, teniendo en cuenta detalles como bolsillos de tamaño grande para que les quepan todos los juguetes o utensilios que quieran llevar o clips y gomas en vez de botones\, y  sobre todo la comodidad para jugar y moverse de forma libre. Esto en cuanto a las formas\, pero también la idea de incluirles en el proceso de diseño de la manera más creativa posible: dejando que ellos realicen el estampado. Los niños nos enseñan más de lo que creemos\, ya que abordan la vida de una manera muy distinta a nosotros: sin estereotipos\, tabúes\, doble moral\, y con inocencia\, pureza e imaginación. \nPara ello presentamos un taller infantil en el que proporcionaremos metros y metros de tejido y pintura de colores para que pinten de manera libre lo que luego formará los estampados de la colección. Lo que buscamos es que los niños se expresen tal y como ellos se sientan sin ningún tipo de tapujo\, por lo que comenzaremos la actividad con una serie de preguntas y estímulos para los niños\, para que a partir de ahí puedan empezar a expresar sus sentimientos. \nFinalmente\, nos gustaría crear contenido audiovisual que resuma el desarrollo de la actividad y enriquecer el proyecto; manteniendo siempre el anonimato de los niños\, sacando planos de sus manos pintando y del entorno en el que vamos a llevarlo a cabo. \nEl taller será el próximo 4 de diciembre en horario de 17 a 19h. \nEl taller es totalmente gratuito\, y los peques podrán llevarse a casa parte de sus creaciones. \n  \nInformación y reservas en laartigua@gmail.com \n 
URL:http://laartigua.es/event/proyecto-kids-2021-22/
LOCATION:La Artigua\, C/Hierbabuena 12\, Madrid\, 28039\, España
CATEGORIES:formación
END:VEVENT
BEGIN:VEVENT
DTSTART;TZID=Europe/Madrid:20211023T180000
DTEND;TZID=Europe/Madrid:20211023T200000
DTSTAMP:20260422T184004
CREATED:20210928T201137Z
LAST-MODIFIED:20211005T200324Z
UID:7080-1635012000-1635019200@laartigua.es
SUMMARY:ARTE Y CIENCIA
DESCRIPTION:Que la ciencia y el arte van de la mano es algo por todos conocido\, desde la ciencia nos podemos acercar al arte y desde el arte a la ciencia.  \nEn este taller lo que queremos es introducir en los peques conocimientos científicos sirviéndonos de la plástica y siguiendo la metodología científica crear obras de arte.  \nDe la mano de la bióloga Lucía Bermejo\, experta en divulgación científica para niños\, conoceremos conceptos científicos de una manera empírica y sobre todo lúdica. Trabajaremos con huevos\, espirales\, animales\, lombarda\, agua y color\, el color no puede faltar.  \nEl taller tiene una duración de dos horas plagadas de experimentos que luego podrán repetir en casa.  \nEs un taller para niños de 6 a 12 años.  \nSi estás interesado mándanos un email a laartigua@gmail.com \n 
URL:http://laartigua.es/event/arte-y-ciencia/
LOCATION:La Artigua\, C/Hierbabuena 12\, Madrid\, 28039\, España
CATEGORIES:formación
ATTACH;FMTTYPE=image/jpeg:http://laartigua.es/wp-content/uploads/2021/09/bermejo.jpg
END:VEVENT
BEGIN:VEVENT
DTSTART;TZID=Europe/Madrid:20210911T110000
DTEND;TZID=Europe/Madrid:20210911T140000
DTSTAMP:20260422T184004
CREATED:20210728T082457Z
LAST-MODIFIED:20210728T083751Z
UID:5295-1631358000-1631368800@laartigua.es
SUMMARY:Taller macramé
DESCRIPTION:Este si que no te lo puedes perder!!\nCurso de inmersión en la técnica del macramé.\nEste taller es tanto para adultos\, como para niños\, para cualquiera con interés en la creación con este tejido.\nDurante el curso de macramé aprenderemos los cuatro nudos que se utilizan principalmente para esta técnica y sus posibles aplicaciones. Además cada uno elaborará una pieza decorativa guiada por la profesora\, introduciendo algunos de los nudos aprendidos.
URL:http://laartigua.es/event/taller-macrame/
LOCATION:La Artigua\, C/Hierbabuena 12\, Madrid\, 28039\, España
ATTACH;FMTTYPE=image/jpeg:http://laartigua.es/wp-content/uploads/2021/07/12151665945_718451f78a_b.jpg
END:VEVENT
BEGIN:VEVENT
DTSTART;TZID=Europe/Madrid:20210901T090000
DTEND;TZID=Europe/Madrid:20210901T210000
DTSTAMP:20260422T184004
CREATED:20210726T205118Z
LAST-MODIFIED:20210726T205118Z
UID:5271-1630486800-1630530000@laartigua.es
SUMMARY:Vuelta a las clases
DESCRIPTION:Volvemos!!
URL:http://laartigua.es/event/vuelta-a-las-clases/
LOCATION:La Artigua\, C/Hierbabuena 12\, Madrid\, 28039\, España
END:VEVENT
END:VCALENDAR