BEGIN:VCALENDAR
VERSION:2.0
PRODID:-//La Artigua - ECPv6.3.5//NONSGML v1.0//EN
CALSCALE:GREGORIAN
METHOD:PUBLISH
X-ORIGINAL-URL:http://laartigua.es
X-WR-CALDESC:Eventos para La Artigua
REFRESH-INTERVAL;VALUE=DURATION:PT1H
X-Robots-Tag:noindex
X-PUBLISHED-TTL:PT1H
BEGIN:VTIMEZONE
TZID:Europe/Madrid
BEGIN:DAYLIGHT
TZOFFSETFROM:+0100
TZOFFSETTO:+0200
TZNAME:CEST
DTSTART:20250330T010000
END:DAYLIGHT
BEGIN:STANDARD
TZOFFSETFROM:+0200
TZOFFSETTO:+0100
TZNAME:CET
DTSTART:20251026T010000
END:STANDARD
END:VTIMEZONE
BEGIN:VEVENT
DTSTART;TZID=Europe/Madrid:20251129T160000
DTEND;TZID=Europe/Madrid:20251130T140000
DTSTAMP:20260422T160531
CREATED:20250921T225607Z
LAST-MODIFIED:20250921T225850Z
UID:7918-1764432000-1764511200@laartigua.es
SUMMARY:Taller de VIDRIERAS ARTÍSTICAS con Itziar Martín
DESCRIPTION:Crea tu propia vidriera al estilo Tiffany en este taller intensivo guiado por Itziar Martín\, maestra vidriera con años de experiencia en esta técnica y a quien podéis cotillear en Instagram en su cuenta  \nEn este curso aprenderás a diseñar tu propia vidriera\, a cortar el vidrio y a ensamblarlo en una pieza única y personal que podrás llevarte a casa y sentirte como en Notre Dame. \nFechas y horario:\nSábado 29 de noviembre de 16:00 a 20:00h\nDomingo 30 de noviembre: de 10:00 a 14:00h\n8 horas en total para que puedas conocer todo el proceso desde el principio hasta el final.  \nTodos los materiales están incluidos en el precio. \nPara más info y reservas escribid  a laartigua@gmail.com. \nPara que se lleve a cabo el taller es necesario que haya un mínimo de 5 participantes\, en caso de no alcanzar ese número se devolverá el importe íntegro de la reserva. \n  \n 
URL:http://laartigua.es/event/taller-de-vidrieras-artisticas-con-itziar-martin/
LOCATION:La Artigua\, C/Hierbabuena 12\, Madrid\, 28039\, España
CATEGORIES:evento,formación
ATTACH;FMTTYPE=image/jpeg:http://laartigua.es/wp-content/uploads/2025/09/foto-vidriera.jpg
END:VEVENT
END:VCALENDAR